BEGIN:VCALENDAR
VERSION:2.0
PRODID:-//Hespartto - ECPv5.1.5//NONSGML v1.0//EN
CALSCALE:GREGORIAN
METHOD:PUBLISH
X-WR-CALNAME:Hespartto
X-ORIGINAL-URL:https://hespartto.fi
X-WR-CALDESC:Events for Hespartto
BEGIN:VTIMEZONE
TZID:Europe/Helsinki
BEGIN:DAYLIGHT
TZOFFSETFROM:+0200
TZOFFSETTO:+0300
TZNAME:EEST
DTSTART:20250330T010000
END:DAYLIGHT
BEGIN:STANDARD
TZOFFSETFROM:+0300
TZOFFSETTO:+0200
TZNAME:EET
DTSTART:20251026T010000
END:STANDARD
END:VTIMEZONE
BEGIN:VEVENT
DTSTART;VALUE=DATE:20250427
DTEND;VALUE=DATE:20250428
DTSTAMP:20260420T011012
CREATED:20250110T142803Z
LAST-MODIFIED:20250110T142803Z
UID:974-1745712000-1745798399@hespartto.fi
SUMMARY:🟡🟠🟣🟢🟤🔵 Partioparaati
DESCRIPTION:Pääkaupunkiseudun partiolaisten yhteinen partioparaati Helsingin keskustassa. \n
URL:https://hespartto.fi/event/%f0%9f%9f%a1%f0%9f%9f%a0%f0%9f%9f%a3%f0%9f%9f%a2%f0%9f%9f%a4%f0%9f%94%b5-partioparaati/
END:VEVENT
END:VCALENDAR