BEGIN:VCALENDAR
VERSION:2.0
PRODID:-//Hespartto - ECPv5.1.5//NONSGML v1.0//EN
CALSCALE:GREGORIAN
METHOD:PUBLISH
X-WR-CALNAME:Hespartto
X-ORIGINAL-URL:https://hespartto.fi
X-WR-CALDESC:Events for Hespartto
BEGIN:VTIMEZONE
TZID:Europe/Helsinki
BEGIN:DAYLIGHT
TZOFFSETFROM:+0200
TZOFFSETTO:+0300
TZNAME:EEST
DTSTART:20250330T010000
END:DAYLIGHT
BEGIN:STANDARD
TZOFFSETFROM:+0300
TZOFFSETTO:+0200
TZNAME:EET
DTSTART:20251026T010000
END:STANDARD
END:VTIMEZONE
BEGIN:VEVENT
DTSTART;VALUE=DATE:20250423
DTEND;VALUE=DATE:20250424
DTSTAMP:20260420T042844
CREATED:20250305T174714Z
LAST-MODIFIED:20250305T174714Z
UID:989-1745366400-1745452799@hespartto.fi
SUMMARY:🟢🟤🔵 Johtajaneuvosto
DESCRIPTION:Johtajaneuvosto\, jossa johtajat kokoontuvat päättämään yhteisistä asioista ja viettämään aikaa yhteisen hauskanpidon parissa. \n
URL:https://hespartto.fi/event/%f0%9f%9f%a2%f0%9f%9f%a4%f0%9f%94%b5-johtajaneuvosto-2/
END:VEVENT
END:VCALENDAR