BEGIN:VCALENDAR
VERSION:2.0
PRODID:-//Hespartto - ECPv5.1.5//NONSGML v1.0//EN
CALSCALE:GREGORIAN
METHOD:PUBLISH
X-WR-CALNAME:Hespartto
X-ORIGINAL-URL:https://hespartto.fi
X-WR-CALDESC:Events for Hespartto
BEGIN:VTIMEZONE
TZID:Europe/Helsinki
BEGIN:DAYLIGHT
TZOFFSETFROM:+0200
TZOFFSETTO:+0300
TZNAME:EEST
DTSTART:20250330T010000
END:DAYLIGHT
BEGIN:STANDARD
TZOFFSETFROM:+0300
TZOFFSETTO:+0200
TZNAME:EET
DTSTART:20251026T010000
END:STANDARD
END:VTIMEZONE
BEGIN:VEVENT
DTSTART;VALUE=DATE:20250124
DTEND;VALUE=DATE:20250127
DTSTAMP:20260421T165024
CREATED:20241108T203319Z
LAST-MODIFIED:20250110T212101Z
UID:947-1737676800-1737935999@hespartto.fi
SUMMARY:🟢🟤🔵 Johtajaneuvosto-viikonloppu
DESCRIPTION:Hesparton johtajiston perinteinen tammikuun joneviikonloppu\, jossa hubaillaan ja suunnitellaan tulevaa kautta. \n
URL:https://hespartto.fi/event/%f0%9f%9f%a2%f0%9f%9f%a4%f0%9f%94%b5-johtajaneuvosto-viikonloppu/
END:VEVENT
END:VCALENDAR