BEGIN:VCALENDAR
VERSION:2.0
PRODID:-//Hespartto - ECPv5.1.5//NONSGML v1.0//EN
CALSCALE:GREGORIAN
METHOD:PUBLISH
X-WR-CALNAME:Hespartto
X-ORIGINAL-URL:https://hespartto.fi
X-WR-CALDESC:Events for Hespartto
BEGIN:VTIMEZONE
TZID:Europe/Helsinki
BEGIN:DAYLIGHT
TZOFFSETFROM:+0200
TZOFFSETTO:+0300
TZNAME:EEST
DTSTART:20250330T010000
END:DAYLIGHT
BEGIN:STANDARD
TZOFFSETFROM:+0300
TZOFFSETTO:+0200
TZNAME:EET
DTSTART:20251026T010000
END:STANDARD
END:VTIMEZONE
BEGIN:VEVENT
DTSTART;VALUE=DATE:20250906
DTEND;VALUE=DATE:20250907
DTSTAMP:20260424T000433
CREATED:20250803T170904Z
LAST-MODIFIED:20250803T171451Z
UID:1013-1757116800-1757203199@hespartto.fi
SUMMARY:🟣🟢  Partioralli
DESCRIPTION:Töölön Nuotioveikkojen järjestämä pyöräillen käytävä partiotaitokilpailu\, joka on suunnattu tarpojille ja samoajille. Kisavartion koko on 4-7 henkilöä\, ja jokaisella kisaajalla tulee olla (akuton) polkupyörä. \nKisan ilmoittautuminen tapahtuu täällä ja ilmoittautuminen sulkeutuu 29.8.. \n
URL:https://hespartto.fi/event/%f0%9f%9f%a2%f0%9f%9f%a4%f0%9f%94%b5-jone-viikonloppu/
END:VEVENT
END:VCALENDAR