BEGIN:VCALENDAR
VERSION:2.0
PRODID:-//Hespartto - ECPv5.1.5//NONSGML v1.0//EN
CALSCALE:GREGORIAN
METHOD:PUBLISH
X-WR-CALNAME:Hespartto
X-ORIGINAL-URL:https://hespartto.fi
X-WR-CALDESC:Events for Hespartto
BEGIN:VTIMEZONE
TZID:Europe/Helsinki
BEGIN:DAYLIGHT
TZOFFSETFROM:+0200
TZOFFSETTO:+0300
TZNAME:EEST
DTSTART:20250330T010000
END:DAYLIGHT
BEGIN:STANDARD
TZOFFSETFROM:+0300
TZOFFSETTO:+0200
TZNAME:EET
DTSTART:20251026T010000
END:STANDARD
END:VTIMEZONE
BEGIN:VEVENT
DTSTART;VALUE=DATE:20250523
DTEND;VALUE=DATE:20250526
DTSTAMP:20260419T131641
CREATED:20250305T175149Z
LAST-MODIFIED:20250305T175149Z
UID:995-1747958400-1748217599@hespartto.fi
SUMMARY:🟢🟤🔵 Kämppätalkoot ja -koulutus
DESCRIPTION:Hesparton ja Töölön Sinisten yhteinen johtajatapahtuma\, jossa talkoillaan Långvikin kämpällä ja kouluttaudutaan kämpän käyttöön liittyen. \n
URL:https://hespartto.fi/event/%f0%9f%9f%a2%f0%9f%9f%a4%f0%9f%94%b5-kamppatalkoot-ja-koulutus/
END:VEVENT
END:VCALENDAR