BEGIN:VCALENDAR
VERSION:2.0
PRODID:-//Hespartto - ECPv5.1.5//NONSGML v1.0//EN
CALSCALE:GREGORIAN
METHOD:PUBLISH
X-WR-CALNAME:Hespartto
X-ORIGINAL-URL:https://hespartto.fi
X-WR-CALDESC:Events for Hespartto
BEGIN:VTIMEZONE
TZID:Europe/Helsinki
BEGIN:DAYLIGHT
TZOFFSETFROM:+0200
TZOFFSETTO:+0300
TZNAME:EEST
DTSTART:20250330T010000
END:DAYLIGHT
BEGIN:STANDARD
TZOFFSETFROM:+0300
TZOFFSETTO:+0200
TZNAME:EET
DTSTART:20251026T010000
END:STANDARD
END:VTIMEZONE
BEGIN:VEVENT
DTSTART;VALUE=DATE:20250516
DTEND;VALUE=DATE:20250519
DTSTAMP:20260419T201257
CREATED:20250305T175016Z
LAST-MODIFIED:20250415T083816Z
UID:993-1747353600-1747612799@hespartto.fi
SUMMARY:🟣 Tarpojien selviytymismajakka
DESCRIPTION:Tarpojaryhmät Vuorihempot sekä Kivitaskut suuntaavat yhdessä vaeltamaan Liesjärven kansallispuistoon. \n
URL:https://hespartto.fi/event/%f0%9f%9f%a3-tarpojien-selviytymismajakka/
END:VEVENT
END:VCALENDAR