BEGIN:VCALENDAR
VERSION:2.0
PRODID:-//Hespartto - ECPv5.1.5//NONSGML v1.0//EN
CALSCALE:GREGORIAN
METHOD:PUBLISH
X-WR-CALNAME:Hespartto
X-ORIGINAL-URL:https://hespartto.fi
X-WR-CALDESC:Events for Hespartto
BEGIN:VTIMEZONE
TZID:Europe/Helsinki
BEGIN:DAYLIGHT
TZOFFSETFROM:+0200
TZOFFSETTO:+0300
TZNAME:EEST
DTSTART:20240331T010000
END:DAYLIGHT
BEGIN:STANDARD
TZOFFSETFROM:+0300
TZOFFSETTO:+0200
TZNAME:EET
DTSTART:20241027T010000
END:STANDARD
END:VTIMEZONE
BEGIN:VEVENT
DTSTART;VALUE=DATE:20241213
DTEND;VALUE=DATE:20241216
DTSTAMP:20260421T132204
CREATED:20240901T211143Z
LAST-MODIFIED:20240901T211143Z
UID:939-1734048000-1734307199@hespartto.fi
SUMMARY:🟤 Vaeltajaosaston retki
DESCRIPTION:Vaeltajaosaston oma kämppäretki. \n
URL:https://hespartto.fi/event/%f0%9f%9f%a4-vaeltajaosaston-retki/
END:VEVENT
END:VCALENDAR