BEGIN:VCALENDAR
VERSION:2.0
PRODID:-//Hespartto - ECPv5.1.5//NONSGML v1.0//EN
CALSCALE:GREGORIAN
METHOD:PUBLISH
X-WR-CALNAME:Hespartto
X-ORIGINAL-URL:https://hespartto.fi
X-WR-CALDESC:Events for Hespartto
BEGIN:VTIMEZONE
TZID:Europe/Helsinki
BEGIN:DAYLIGHT
TZOFFSETFROM:+0200
TZOFFSETTO:+0300
TZNAME:EEST
DTSTART:20250330T010000
END:DAYLIGHT
BEGIN:STANDARD
TZOFFSETFROM:+0300
TZOFFSETTO:+0200
TZNAME:EET
DTSTART:20251026T010000
END:STANDARD
END:VTIMEZONE
BEGIN:VEVENT
DTSTART;VALUE=DATE:20250326
DTEND;VALUE=DATE:20250327
DTSTAMP:20260424T093400
CREATED:20250127T170635Z
LAST-MODIFIED:20250127T170635Z
UID:985-1742947200-1743033599@hespartto.fi
SUMMARY:Kevätvuosikokous
DESCRIPTION:Lippukunnan kevätvuosikokous\, johon ovat tervetulleita kaikki lippukunnan jäsenet. Partioasemalla klo 18:00. \n
URL:https://hespartto.fi/event/kevatvuosikokous-3/
END:VEVENT
END:VCALENDAR