BEGIN:VCALENDAR
VERSION:2.0
PRODID:-//Hespartto - ECPv5.1.5//NONSGML v1.0//EN
CALSCALE:GREGORIAN
METHOD:PUBLISH
X-WR-CALNAME:Hespartto
X-ORIGINAL-URL:https://hespartto.fi
X-WR-CALDESC:Events for Hespartto
BEGIN:VTIMEZONE
TZID:Europe/Helsinki
BEGIN:DAYLIGHT
TZOFFSETFROM:+0200
TZOFFSETTO:+0300
TZNAME:EEST
DTSTART:20250330T010000
END:DAYLIGHT
BEGIN:STANDARD
TZOFFSETFROM:+0300
TZOFFSETTO:+0200
TZNAME:EET
DTSTART:20251026T010000
END:STANDARD
END:VTIMEZONE
BEGIN:VEVENT
DTSTART;VALUE=DATE:20250401
DTEND;VALUE=DATE:20250402
DTSTAMP:20260422T123755
CREATED:20250127T170102Z
LAST-MODIFIED:20250127T170127Z
UID:978-1743465600-1743551999@hespartto.fi
SUMMARY:🟡🟠🟣🟢🟤🔵Lauluilta
DESCRIPTION:Perinteinen lauluilta Hesparton syntymäpäiväviikolla. Lauluillassa lauletaan OEK-laulukirjan lauluja ja mukaan ovat tervetulleita niin kaiken ikäiset lippukuntalaiset kuin myös vanhat hespartot. \n
URL:https://hespartto.fi/event/lauluilta-%f0%9f%9f%a1%f0%9f%9f%a0%f0%9f%9f%a3%f0%9f%9f%a2%f0%9f%9f%a4%f0%9f%94%b5/
END:VEVENT
END:VCALENDAR